BEGIN:VCALENDAR
VERSION:2.0
PRODID:-//TBD Speldorf 1895 e.V. - ECPv6.15.20//NONSGML v1.0//EN
CALSCALE:GREGORIAN
METHOD:PUBLISH
X-WR-CALNAME:TBD Speldorf 1895 e.V.
X-ORIGINAL-URL:https://www.tbd-speldorf.de
X-WR-CALDESC:Veranstaltungen für TBD Speldorf 1895 e.V.
REFRESH-INTERVAL;VALUE=DURATION:PT1H
X-Robots-Tag:noindex
X-PUBLISHED-TTL:PT1H
BEGIN:VTIMEZONE
TZID:Europe/Berlin
BEGIN:DAYLIGHT
TZOFFSETFROM:+0100
TZOFFSETTO:+0200
TZNAME:CEST
DTSTART:20250330T010000
END:DAYLIGHT
BEGIN:STANDARD
TZOFFSETFROM:+0200
TZOFFSETTO:+0100
TZNAME:CET
DTSTART:20251026T010000
END:STANDARD
BEGIN:DAYLIGHT
TZOFFSETFROM:+0100
TZOFFSETTO:+0200
TZNAME:CEST
DTSTART:20260329T010000
END:DAYLIGHT
BEGIN:STANDARD
TZOFFSETFROM:+0200
TZOFFSETTO:+0100
TZNAME:CET
DTSTART:20261025T010000
END:STANDARD
BEGIN:DAYLIGHT
TZOFFSETFROM:+0100
TZOFFSETTO:+0200
TZNAME:CEST
DTSTART:20270328T010000
END:DAYLIGHT
BEGIN:STANDARD
TZOFFSETFROM:+0200
TZOFFSETTO:+0100
TZNAME:CET
DTSTART:20271031T010000
END:STANDARD
END:VTIMEZONE
BEGIN:VEVENT
DTSTART;TZID=Europe/Berlin:20260421T180000
DTEND;TZID=Europe/Berlin:20260421T193000
DTSTAMP:20260421T125526
CREATED:20260407T052435Z
LAST-MODIFIED:20260407T052435Z
UID:17364-1776794400-1776799800@www.tbd-speldorf.de
SUMMARY:Gymnastik
DESCRIPTION:
URL:https://www.tbd-speldorf.de/event/gymnastik-98/
LOCATION:Turnhalle Hochfelderstr.\, Hochfelder Str. 19\, Mülheim Ruhr\, NRW\, 45478\, Deutschland
CATEGORIES:Gymnastik
END:VEVENT
BEGIN:VEVENT
DTSTART;TZID=Europe/Berlin:20260421T180000
DTEND;TZID=Europe/Berlin:20260421T193000
DTSTAMP:20260421T125526
CREATED:20260421T080341Z
LAST-MODIFIED:20260421T080341Z
UID:17663-1776794400-1776799800@www.tbd-speldorf.de
SUMMARY:Gehfussball am Dienstag…
DESCRIPTION:
URL:https://www.tbd-speldorf.de/event/gehfussball-am-dienstag/
LOCATION:TBD Wald Arena\, Langensiepenstr. 48a\, Mülheim Ruhr\, NRW\, 45478\, Deutschland
CATEGORIES:Gehfussball
END:VEVENT
BEGIN:VEVENT
DTSTART;TZID=Europe/Berlin:20260421T193000
DTEND;TZID=Europe/Berlin:20260421T220000
DTSTAMP:20260421T125526
CREATED:20260407T051710Z
LAST-MODIFIED:20260407T051710Z
UID:17348-1776799800-1776808800@www.tbd-speldorf.de
SUMMARY:Basketballtraining
DESCRIPTION:
URL:https://www.tbd-speldorf.de/event/basketballtraining-103/
LOCATION:Turnhalle Hochfelderstr.\, Hochfelder Str. 19\, Mülheim Ruhr\, NRW\, 45478\, Deutschland
CATEGORIES:Basketballtraining
END:VEVENT
END:VCALENDAR